BEGIN:VCALENDAR
VERSION:2.0
PRODID:-//thearcmontgomerycounty.org//NONSGML kigkonsult.se iCalcreator 2.3
 0.10//
CALSCALE:GREGORIAN
METHOD:PUBLISH
UID:aee8415b-c970-4f64-bd89-1c83a4954560
X-WR-CALDESC:
X-WR-RELCALID:ce2dedead9ef82433a870d43ef312409
X-WR-TIMEZONE:America/New_York
BEGIN:VTIMEZONE
TZID:America/New_York
BEGIN:STANDARD
TZNAME:EST
DTSTART:20161106T020000
TZOFFSETFROM:-0400
TZOFFSETTO:-0500
RDATE:20171105T020000
RDATE:20181104T020000
END:STANDARD
BEGIN:DAYLIGHT
TZNAME:EDT
DTSTART:20170312T020000
TZOFFSETFROM:-0500
TZOFFSETTO:-0400
RDATE:20180311T020000
RDATE:20190310T020000
END:DAYLIGHT
END:VTIMEZONE
BEGIN:VEVENT
UID:ea5904c4-d60e-4e00-be72-6db155b3ba42
DTSTAMP:20260423T025147Z
DESCRIPTION:
DTSTART;TZID=America/New_York:20170927T193000
DTEND;TZID=America/New_York:20170927T210000
LOCATION:11600 Nebel Street\, Rockville\, MD 20852
SUMMARY:Transition Times
END:VEVENT
END:VCALENDAR
