BEGIN:VCALENDAR
VERSION:2.0
PRODID:-//thearcmontgomerycounty.org//NONSGML kigkonsult.se iCalcreator 2.3
 0.10//
CALSCALE:GREGORIAN
METHOD:PUBLISH
UID:5d0771bd-1ca3-40d6-84fe-a5c4a63d02c7
X-WR-CALDESC:
X-WR-RELCALID:a436859e033a196bc99cf235264965ea
X-WR-TIMEZONE:America/New_York
BEGIN:VTIMEZONE
TZID:America/New_York
BEGIN:STANDARD
TZNAME:EST
DTSTART:20161106T020000
TZOFFSETFROM:-0400
TZOFFSETTO:-0500
RDATE:20171105T020000
RDATE:20181104T020000
END:STANDARD
BEGIN:DAYLIGHT
TZNAME:EDT
DTSTART:20170312T020000
TZOFFSETFROM:-0500
TZOFFSETTO:-0400
RDATE:20180311T020000
RDATE:20190310T020000
END:DAYLIGHT
END:VTIMEZONE
BEGIN:VEVENT
UID:19f88880-4f8d-46f1-9876-fd6c6639523e
DTSTAMP:20260423T011508Z
DESCRIPTION:
DTSTART;TZID=America/New_York:20171004T193000
DTEND;TZID=America/New_York:20171004T210000
LOCATION:11600 Nebel Street\, Rockville\, MD 20852
SUMMARY:Tools For School
END:VEVENT
END:VCALENDAR
