BEGIN:VCALENDAR
VERSION:2.0
PRODID:-//thearcmontgomerycounty.org//NONSGML kigkonsult.se iCalcreator 2.3
 0.10//
CALSCALE:GREGORIAN
METHOD:PUBLISH
UID:d477d76f-269c-4c14-aae8-5e108116e943
X-WR-CALDESC:
X-WR-RELCALID:d82579291713170b56136b0d230ae610
X-WR-TIMEZONE:America/New_York
BEGIN:VTIMEZONE
TZID:America/New_York
BEGIN:STANDARD
TZNAME:EST
DTSTART:20161106T020000
TZOFFSETFROM:-0400
TZOFFSETTO:-0500
RDATE:20171105T020000
RDATE:20181104T020000
END:STANDARD
BEGIN:DAYLIGHT
TZNAME:EDT
DTSTART:20170312T020000
TZOFFSETFROM:-0500
TZOFFSETTO:-0400
RDATE:20180311T020000
RDATE:20190310T020000
END:DAYLIGHT
END:VTIMEZONE
BEGIN:VEVENT
UID:61343a08-b9d6-4a78-bacd-d942e241f622
DTSTAMP:20260423T011421Z
DESCRIPTION:
DTSTART;TZID=America/New_York:20171015T130000
DTEND;TZID=America/New_York:20171015T170000
LOCATION:10611 Tenbrook Drive\, Silver Spring MD 20901
SUMMARY:Sibshops
END:VEVENT
END:VCALENDAR
