BEGIN:VCALENDAR
VERSION:2.0
PRODID:-//thearcmontgomerycounty.org//NONSGML kigkonsult.se iCalcreator 2.3
 0.10//
CALSCALE:GREGORIAN
METHOD:PUBLISH
UID:8d6f69c9-6c16-4801-b377-c591c5b7d08e
X-WR-CALDESC:
X-WR-RELCALID:51f517c9f552bdf6671492b6b2b20830
X-WR-TIMEZONE:America/New_York
BEGIN:VTIMEZONE
TZID:America/New_York
BEGIN:STANDARD
TZNAME:EST
DTSTART:20161106T020000
TZOFFSETFROM:-0400
TZOFFSETTO:-0500
RDATE:20171105T020000
RDATE:20181104T020000
END:STANDARD
BEGIN:DAYLIGHT
TZNAME:EDT
DTSTART:20170312T020000
TZOFFSETFROM:-0500
TZOFFSETTO:-0400
RDATE:20180311T020000
RDATE:20190310T020000
END:DAYLIGHT
END:VTIMEZONE
BEGIN:VEVENT
UID:e9331cbc-f4e6-4d30-887d-9cebcd2d24c2
DTSTAMP:20260423T012015Z
DESCRIPTION:
DTSTART;TZID=America/New_York:20171027T180000
DTEND;TZID=America/New_York:20171027T223000
LOCATION:Bethesda North Conference Center\, 5701 Marinelli Road\, N. Bethes
 da\, MD 20852
SUMMARY:The Arc Gala
END:VEVENT
END:VCALENDAR
