BEGIN:VCALENDAR
VERSION:2.0
PRODID:-//thearcmontgomerycounty.org//NONSGML kigkonsult.se iCalcreator 2.3
 0.10//
CALSCALE:GREGORIAN
METHOD:PUBLISH
UID:cc02699c-2cb9-4d71-ae72-c08261423be4
X-WR-CALDESC:
X-WR-RELCALID:aef8b25700f9e0c7734c327a18be770d
X-WR-TIMEZONE:America/New_York
BEGIN:VTIMEZONE
TZID:America/New_York
BEGIN:STANDARD
TZNAME:EST
DTSTART:20161106T020000
TZOFFSETFROM:-0400
TZOFFSETTO:-0500
RDATE:20171105T020000
RDATE:20181104T020000
END:STANDARD
BEGIN:DAYLIGHT
TZNAME:EDT
DTSTART:20170312T020000
TZOFFSETFROM:-0500
TZOFFSETTO:-0400
RDATE:20180311T020000
RDATE:20190310T020000
END:DAYLIGHT
END:VTIMEZONE
BEGIN:VEVENT
UID:c48c353a-0084-4daf-94e9-449f4410d54f
DTSTAMP:20260423T000502Z
DESCRIPTION:
DTSTART;TZID=America/New_York:20171101T193000
DTEND;TZID=America/New_York:20171101T210000
LOCATION:11600 Nebel Street\, Rockville\, MD 20852
SUMMARY:Tools For School with Dr. Valeri Hu
END:VEVENT
END:VCALENDAR
