BEGIN:VCALENDAR
VERSION:2.0
PRODID:-//thearcmontgomerycounty.org//NONSGML kigkonsult.se iCalcreator 2.3
 0.10//
CALSCALE:GREGORIAN
METHOD:PUBLISH
UID:ac4ca3ab-27b4-4643-b7d1-ea7465475a0b
X-WR-CALDESC:THIS ORIENTATION HAS BEEN RESCHEDULED FOR NOVEMBER 10\,2017
X-WR-RELCALID:c501fd172ac17a00260a7bf86c7f759a
X-WR-TIMEZONE:America/New_York
BEGIN:VTIMEZONE
TZID:America/New_York
BEGIN:STANDARD
TZNAME:EST
DTSTART:20161106T020000
TZOFFSETFROM:-0400
TZOFFSETTO:-0500
RDATE:20171105T020000
RDATE:20181104T020000
END:STANDARD
BEGIN:DAYLIGHT
TZNAME:EDT
DTSTART:20170312T020000
TZOFFSETFROM:-0500
TZOFFSETTO:-0400
RDATE:20180311T020000
RDATE:20190310T020000
END:DAYLIGHT
END:VTIMEZONE
BEGIN:VEVENT
UID:5854e9ce-9514-4314-8569-7d63b8dde119
DTSTAMP:20260423T000621Z
DESCRIPTION:THIS ORIENTATION HAS BEEN RESCHEDULED FOR NOVEMBER 10\,2017
DTSTART;TZID=America/New_York:20171103T160000
DTEND;TZID=America/New_York:20171103T170000
LOCATION:11600 Nebel Street\, Rockville\, MD 20852
SUMMARY:Volunteer Orientation-RESCHEDULED
END:VEVENT
END:VCALENDAR
