BEGIN:VCALENDAR
VERSION:2.0
PRODID:-//thearcmontgomerycounty.org//NONSGML kigkonsult.se iCalcreator 2.3
 0.10//
CALSCALE:GREGORIAN
METHOD:PUBLISH
UID:82f89507-5b7f-4121-b3c2-3a08b3a1b7e6
X-WR-CALDESC:Please register at least one business day in advance. Voluntee
 r Orientations with no registrations will be canceled.
X-WR-RELCALID:93407def4010baeccd4e8a842add6a7d
X-WR-TIMEZONE:America/New_York
BEGIN:VTIMEZONE
TZID:America/New_York
BEGIN:STANDARD
TZNAME:EST
DTSTART:20171105T020000
TZOFFSETFROM:-0400
TZOFFSETTO:-0500
RDATE:20181104T020000
END:STANDARD
BEGIN:DAYLIGHT
TZNAME:EDT
DTSTART:20170312T020000
TZOFFSETFROM:-0500
TZOFFSETTO:-0400
RDATE:20180311T020000
RDATE:20190310T020000
END:DAYLIGHT
END:VTIMEZONE
BEGIN:VEVENT
UID:92bc5e6c-1976-4fe8-bc83-1fa541ea7c30
DTSTAMP:20260423T000303Z
DESCRIPTION:Please register at least one business day in advance. Volunteer
  Orientations with no registrations will be canceled.
DTSTART;TZID=America/New_York:20171110T160000
DTEND;TZID=America/New_York:20171110T170000
LOCATION:11600 Nebel St\, Rockville MD 20852
SUMMARY:Volunteer Orientation
END:VEVENT
END:VCALENDAR
