BEGIN:VCALENDAR
VERSION:2.0
PRODID:-//thearcmontgomerycounty.org//NONSGML kigkonsult.se iCalcreator 2.3
 0.10//
CALSCALE:GREGORIAN
METHOD:PUBLISH
UID:cb555e37-0ef3-4a34-972c-3cdeda4cde06
X-WR-CALDESC:Stop in to meet Chrissy Shawver\, Interim CEO\, and Daria Cerv
 antes\, Interim COO.
X-WR-RELCALID:8ac97314aaa887a5b355cf30c692938e
X-WR-TIMEZONE:America/New_York
BEGIN:VTIMEZONE
TZID:America/New_York
BEGIN:STANDARD
TZNAME:EST
DTSTART:20171105T020000
TZOFFSETFROM:-0400
TZOFFSETTO:-0500
RDATE:20181104T020000
END:STANDARD
BEGIN:DAYLIGHT
TZNAME:EDT
DTSTART:20170312T020000
TZOFFSETFROM:-0500
TZOFFSETTO:-0400
RDATE:20180311T020000
RDATE:20190310T020000
END:DAYLIGHT
END:VTIMEZONE
BEGIN:VEVENT
UID:666fd4b6-ea67-492f-a114-5da187081273
DTSTAMP:20260423T000656Z
DESCRIPTION:Stop in to meet Chrissy Shawver\, Interim CEO\, and Daria Cerva
 ntes\, Interim COO.
DTSTART;TZID=America/New_York:20171114T170000
DTEND;TZID=America/New_York:20171114T193000
LOCATION:11600 Nebel Street\, Rockville\, MD 20852
SUMMARY:Meet & Greet New Leadership Team
END:VEVENT
END:VCALENDAR
