BEGIN:VCALENDAR
VERSION:2.0
PRODID:-//thearcmontgomerycounty.org//NONSGML kigkonsult.se iCalcreator 2.3
 0.10//
CALSCALE:GREGORIAN
METHOD:PUBLISH
UID:6ee4a1d7-6ef9-472c-bf98-722aa4f3d3ed
X-WR-CALDESC:
X-WR-RELCALID:3119c2ad9f2eabfefbd0ba31b4dc2432
X-WR-TIMEZONE:America/New_York
BEGIN:VTIMEZONE
TZID:America/New_York
BEGIN:STANDARD
TZNAME:EST
DTSTART:20171105T020000
TZOFFSETFROM:-0400
TZOFFSETTO:-0500
RDATE:20181104T020000
END:STANDARD
BEGIN:DAYLIGHT
TZNAME:EDT
DTSTART:20170312T020000
TZOFFSETFROM:-0500
TZOFFSETTO:-0400
RDATE:20180311T020000
RDATE:20190310T020000
END:DAYLIGHT
END:VTIMEZONE
BEGIN:VEVENT
UID:b959af49-a096-47d5-8899-58f75aa022c9
DTSTAMP:20260423T000057Z
DESCRIPTION:
DTSTART;TZID=America/New_York:20171115T193000
DTEND;TZID=America/New_York:20171115T210000
LOCATION:11600 Nebel Street\, Rockville\, MD 20852
SUMMARY:Transition Times
END:VEVENT
END:VCALENDAR
