BEGIN:VCALENDAR
VERSION:2.0
PRODID:-//thearcmontgomerycounty.org//NONSGML kigkonsult.se iCalcreator 2.3
 0.10//
CALSCALE:GREGORIAN
METHOD:PUBLISH
UID:31faa48c-ac16-4223-94e0-2d8f38d86b53
X-WR-CALDESC:
X-WR-RELCALID:b586f144110e4455707e0b51907e9a6f
X-WR-TIMEZONE:America/New_York
BEGIN:VTIMEZONE
TZID:America/New_York
BEGIN:STANDARD
TZNAME:EST
DTSTART:20171105T020000
TZOFFSETFROM:-0400
TZOFFSETTO:-0500
RDATE:20181104T020000
END:STANDARD
BEGIN:DAYLIGHT
TZNAME:EDT
DTSTART:20170312T020000
TZOFFSETFROM:-0500
TZOFFSETTO:-0400
RDATE:20180311T020000
RDATE:20190310T020000
END:DAYLIGHT
END:VTIMEZONE
BEGIN:VEVENT
UID:99f60b2e-43c1-48a3-9c1e-55130111f582
DTSTAMP:20260423T000109Z
DESCRIPTION:
DTSTART;TZID=America/New_York:20171129T193000
DTEND;TZID=America/New_York:20171129T210000
LOCATION:11600 Nebel St\, Rockville MD 20852
SUMMARY:Tools For School- En Espanol
END:VEVENT
END:VCALENDAR
