BEGIN:VCALENDAR
VERSION:2.0
PRODID:-//thearcmontgomerycounty.org//NONSGML kigkonsult.se iCalcreator 2.3
 0.10//
CALSCALE:GREGORIAN
METHOD:PUBLISH
UID:2be32321-33dd-4ac9-95b6-b6f1dceacd97
X-WR-CALDESC:
X-WR-RELCALID:d56a0af3675ac58a2d6637d21a45b5fe
X-WR-TIMEZONE:America/New_York
BEGIN:VTIMEZONE
TZID:America/New_York
BEGIN:STANDARD
TZNAME:EST
DTSTART:20171105T020000
TZOFFSETFROM:-0400
TZOFFSETTO:-0500
RDATE:20181104T020000
END:STANDARD
BEGIN:DAYLIGHT
TZNAME:EDT
DTSTART:20170312T020000
TZOFFSETFROM:-0500
TZOFFSETTO:-0400
RDATE:20180311T020000
RDATE:20190310T020000
END:DAYLIGHT
END:VTIMEZONE
BEGIN:VEVENT
UID:213a1b15-c2c2-4793-ad44-5c8b50413988
DTSTAMP:20260422T235834Z
DESCRIPTION:
DTSTART;TZID=America/New_York:20171206T193000
DTEND;TZID=America/New_York:20171206T210000
LOCATION:11600 Nebel Street\, Rockville\, MD 20852
SUMMARY:Tools For School
END:VEVENT
END:VCALENDAR
