BEGIN:VCALENDAR
VERSION:2.0
PRODID:-//thearcmontgomerycounty.org//NONSGML kigkonsult.se iCalcreator 2.3
 0.10//
CALSCALE:GREGORIAN
METHOD:PUBLISH
UID:19f4a88b-1af1-46aa-a72f-715208d92957
X-WR-CALDESC:
X-WR-RELCALID:7ed91f6520e43e76266e5ccb7ed19973
X-WR-TIMEZONE:America/New_York
BEGIN:VTIMEZONE
TZID:America/New_York
BEGIN:STANDARD
TZNAME:EST
DTSTART:20171105T020000
TZOFFSETFROM:-0400
TZOFFSETTO:-0500
RDATE:20181104T020000
END:STANDARD
BEGIN:DAYLIGHT
TZNAME:EDT
DTSTART:20170312T020000
TZOFFSETFROM:-0500
TZOFFSETTO:-0400
RDATE:20180311T020000
RDATE:20190310T020000
END:DAYLIGHT
END:VTIMEZONE
BEGIN:VEVENT
UID:0c2b7df8-a052-4ae3-ba68-1663ea69170c
DTSTAMP:20260422T211611Z
DESCRIPTION:
DTSTART;TZID=America/New_York:20180117T193000
DTEND;TZID=America/New_York:20180117T210000
LOCATION:11600 Nebel Street\, Rockville\, MD 20852
SUMMARY:Transition Times-CANCELLED
END:VEVENT
END:VCALENDAR
