BEGIN:VCALENDAR
VERSION:2.0
PRODID:-//thearcmontgomerycounty.org//NONSGML kigkonsult.se iCalcreator 2.3
 0.10//
CALSCALE:GREGORIAN
METHOD:PUBLISH
UID:be8fada9-73c5-46f2-b73e-6f4be08c9023
X-WR-CALDESC:
X-WR-RELCALID:db23c29b8377459308e2c132386529c6
X-WR-TIMEZONE:America/New_York
BEGIN:VTIMEZONE
TZID:America/New_York
BEGIN:STANDARD
TZNAME:EST
DTSTART:20171105T020000
TZOFFSETFROM:-0400
TZOFFSETTO:-0500
RDATE:20181104T020000
END:STANDARD
BEGIN:DAYLIGHT
TZNAME:EDT
DTSTART:20170312T020000
TZOFFSETFROM:-0500
TZOFFSETTO:-0400
RDATE:20180311T020000
RDATE:20190310T020000
END:DAYLIGHT
END:VTIMEZONE
BEGIN:VEVENT
UID:fb2da5f0-c27f-4a9b-a1c0-cc3ea42912df
DTSTAMP:20260422T211520Z
DESCRIPTION:
DTSTART;TZID=America/New_York:20180124T193000
DTEND;TZID=America/New_York:20180124T210000
LOCATION:11600 Nebel Street\, Rockville\, MD 20852
SUMMARY:Transition Times-RESCHEDULED
END:VEVENT
END:VCALENDAR
