BEGIN:VCALENDAR
VERSION:2.0
PRODID:-//thearcmontgomerycounty.org//NONSGML kigkonsult.se iCalcreator 2.3
 0.10//
CALSCALE:GREGORIAN
METHOD:PUBLISH
UID:2ed174c6-5e4a-4ca8-9fb0-82ad3c5c9cd9
X-WR-CALDESC:
X-WR-RELCALID:464c27068ae664461148eefd090bd27f
X-WR-TIMEZONE:America/New_York
BEGIN:VTIMEZONE
TZID:America/New_York
BEGIN:STANDARD
TZNAME:EST
DTSTART:20171105T020000
TZOFFSETFROM:-0400
TZOFFSETTO:-0500
RDATE:20181104T020000
END:STANDARD
BEGIN:DAYLIGHT
TZNAME:EDT
DTSTART:20170312T020000
TZOFFSETFROM:-0500
TZOFFSETTO:-0400
RDATE:20180311T020000
RDATE:20190310T020000
END:DAYLIGHT
END:VTIMEZONE
BEGIN:VEVENT
UID:c262e8d0-7cca-4194-874a-8e57efe0557b
DTSTAMP:20260422T194034Z
DESCRIPTION:
DTSTART;TZID=America/New_York:20180207T193000
DTEND;TZID=America/New_York:20180207T210000
LOCATION:11600 Nebel Street\, Rockville\, MD 20852
SUMMARY:Tools For School-CANCELLED
END:VEVENT
END:VCALENDAR
