BEGIN:VCALENDAR
VERSION:2.0
PRODID:-//thearcmontgomerycounty.org//NONSGML kigkonsult.se iCalcreator 2.3
 0.10//
CALSCALE:GREGORIAN
METHOD:PUBLISH
UID:f09ccef2-5b47-4ab0-af9b-0baf4be2694d
X-WR-CALDESC:<b>TICKETS REQUIRED!</b>  $50 per person.  No tickets will be 
 sold at the door\; tickets must be purchased by February 23.  Use the link
  below to purchase tickets.
X-WR-RELCALID:d79653da615e64dcb5251bd0dddd60f8
X-WR-TIMEZONE:America/New_York
BEGIN:VTIMEZONE
TZID:America/New_York
BEGIN:STANDARD
TZNAME:EST
DTSTART:20171105T020000
TZOFFSETFROM:-0400
TZOFFSETTO:-0500
RDATE:20181104T020000
END:STANDARD
BEGIN:DAYLIGHT
TZNAME:EDT
DTSTART:20170312T020000
TZOFFSETFROM:-0500
TZOFFSETTO:-0400
RDATE:20180311T020000
RDATE:20190310T020000
END:DAYLIGHT
END:VTIMEZONE
BEGIN:VEVENT
UID:f28cda45-feea-46f6-9328-389f10b6cecd
DTSTAMP:20260422T135454Z
DESCRIPTION:<b>TICKETS REQUIRED!</b>  $50 per person.  No tickets will be s
 old at the door\; tickets must be purchased by February 23.  Use the link 
 below to purchase tickets.
DTSTART;TZID=America/New_York:20180302T190000
DTEND;TZID=America/New_York:20180302T203000
LOCATION:VisArts\, 155 Gibbs Street\, Rockville\, MD 20850
SUMMARY:Community\, Staff & Volunteer Awards Reception
END:VEVENT
END:VCALENDAR
