BEGIN:VCALENDAR
VERSION:2.0
PRODID:-//thearcmontgomerycounty.org//NONSGML kigkonsult.se iCalcreator 2.3
 0.10//
CALSCALE:GREGORIAN
METHOD:PUBLISH
UID:071c9e91-4323-4e17-871c-a0b474b20f64
X-WR-CALDESC:
X-WR-RELCALID:5f9e29fdb3cfc48926c4f9cdb38f99b9
X-WR-TIMEZONE:America/New_York
BEGIN:VTIMEZONE
TZID:America/New_York
BEGIN:STANDARD
TZNAME:EST
DTSTART:20171105T020000
TZOFFSETFROM:-0400
TZOFFSETTO:-0500
RDATE:20181104T020000
END:STANDARD
BEGIN:DAYLIGHT
TZNAME:EDT
DTSTART:20170312T020000
TZOFFSETFROM:-0500
TZOFFSETTO:-0400
RDATE:20180311T020000
RDATE:20190310T020000
END:DAYLIGHT
END:VTIMEZONE
BEGIN:VEVENT
UID:3d01a26c-08bd-44c1-883e-06212917c8db
DTSTAMP:20260422T135126Z
DESCRIPTION:
DTSTART;TZID=America/New_York:20180304T130000
DTEND;TZID=America/New_York:20180304T170000
LOCATION:10611 Tenbrook Drive\, Silver Spring MD 20901
SUMMARY:Sibshops
END:VEVENT
END:VCALENDAR
