BEGIN:VCALENDAR
VERSION:2.0
PRODID:-//thearcmontgomerycounty.org//NONSGML kigkonsult.se iCalcreator 2.3
 0.10//
CALSCALE:GREGORIAN
METHOD:PUBLISH
UID:1de86c3f-b989-47ac-8d88-030a33a5b316
X-WR-CALDESC:Please register at least one business day in advance. Voluntee
 r Orientations with no registrations will be canceled.
X-WR-RELCALID:6b966656b30e2afa26663d2319375bce
X-WR-TIMEZONE:America/New_York
BEGIN:VTIMEZONE
TZID:America/New_York
BEGIN:STANDARD
TZNAME:EST
DTSTART:20171105T020000
TZOFFSETFROM:-0400
TZOFFSETTO:-0500
RDATE:20181104T020000
END:STANDARD
BEGIN:DAYLIGHT
TZNAME:EDT
DTSTART:20180311T020000
TZOFFSETFROM:-0500
TZOFFSETTO:-0400
RDATE:20190310T020000
END:DAYLIGHT
END:VTIMEZONE
BEGIN:VEVENT
UID:7a44b5dd-ad23-4c09-884c-9eb7c2c614bb
DTSTAMP:20260422T135105Z
DESCRIPTION:Please register at least one business day in advance. Volunteer
  Orientations with no registrations will be canceled.
DTSTART;TZID=America/New_York:20180317T100000
DTEND;TZID=America/New_York:20180317T110000
LOCATION:11600 Nebel St\, Rockville MD 20852
SUMMARY:Volunteer Orientation
END:VEVENT
END:VCALENDAR
