BEGIN:VCALENDAR
VERSION:2.0
PRODID:-//thearcmontgomerycounty.org//NONSGML kigkonsult.se iCalcreator 2.3
 0.10//
CALSCALE:GREGORIAN
METHOD:PUBLISH
UID:d589e40b-1b54-47b2-8c96-438beb51a442
X-WR-CALDESC:
X-WR-RELCALID:d2ba73e3179c6f377c2dc00045023fa3
X-WR-TIMEZONE:America/New_York
BEGIN:VTIMEZONE
TZID:America/New_York
BEGIN:STANDARD
TZNAME:EST
DTSTART:20171105T020000
TZOFFSETFROM:-0400
TZOFFSETTO:-0500
RDATE:20181104T020000
END:STANDARD
BEGIN:DAYLIGHT
TZNAME:EDT
DTSTART:20180311T020000
TZOFFSETFROM:-0500
TZOFFSETTO:-0400
RDATE:20190310T020000
END:DAYLIGHT
END:VTIMEZONE
BEGIN:VEVENT
UID:18195a03-ca46-4f8d-bf6b-97f43e298b25
DTSTAMP:20260422T134840Z
DESCRIPTION:
DTSTART;TZID=America/New_York:20180321T193000
DTEND;TZID=America/New_York:20180321T210000
LOCATION:11600 Nebel Street\, Rockville\, MD 20852
SUMMARY:Transition Times Joint Meeting-CANCELLED
END:VEVENT
END:VCALENDAR
