BEGIN:VCALENDAR
VERSION:2.0
PRODID:-//thearcmontgomerycounty.org//NONSGML kigkonsult.se iCalcreator 2.3
 0.10//
CALSCALE:GREGORIAN
METHOD:PUBLISH
UID:d803f81d-2d8f-4b20-8060-ac466bcf47fe
X-WR-CALDESC:
X-WR-RELCALID:b276d588dcfc49d505e1c1970870641c
X-WR-TIMEZONE:America/New_York
BEGIN:VTIMEZONE
TZID:America/New_York
BEGIN:STANDARD
TZNAME:EST
DTSTART:20171105T020000
TZOFFSETFROM:-0400
TZOFFSETTO:-0500
RDATE:20181104T020000
END:STANDARD
BEGIN:DAYLIGHT
TZNAME:EDT
DTSTART:20180311T020000
TZOFFSETFROM:-0500
TZOFFSETTO:-0400
RDATE:20190310T020000
END:DAYLIGHT
END:VTIMEZONE
BEGIN:VEVENT
UID:6c76ab9f-a89e-40ca-abb0-3a1e910dcd9c
DTSTAMP:20260422T122900Z
DESCRIPTION:
DTSTART;TZID=America/New_York:20180404T193000
DTEND;TZID=America/New_York:20180404T210000
LOCATION:11600 Nebel Street\, Rockville\, MD 20852
SUMMARY:Tools for School-RESCHEDULED
END:VEVENT
END:VCALENDAR
