BEGIN:VCALENDAR
VERSION:2.0
PRODID:-//thearcmontgomerycounty.org//NONSGML kigkonsult.se iCalcreator 2.3
 0.10//
CALSCALE:GREGORIAN
METHOD:PUBLISH
UID:62251567-2c48-4139-8089-98aa273ccf8c
X-WR-CALDESC:
X-WR-RELCALID:84af04530a3a8781d288225ab4f76732
X-WR-TIMEZONE:America/New_York
BEGIN:VTIMEZONE
TZID:America/New_York
BEGIN:STANDARD
TZNAME:EST
DTSTART:20171105T020000
TZOFFSETFROM:-0400
TZOFFSETTO:-0500
RDATE:20181104T020000
END:STANDARD
BEGIN:DAYLIGHT
TZNAME:EDT
DTSTART:20180311T020000
TZOFFSETFROM:-0500
TZOFFSETTO:-0400
RDATE:20190310T020000
END:DAYLIGHT
END:VTIMEZONE
BEGIN:VEVENT
UID:5a6cbf1c-c3d2-4826-893f-3b9e437d86d4
DTSTAMP:20260422T122353Z
DESCRIPTION:
DTSTART;TZID=America/New_York:20180418T193000
DTEND;TZID=America/New_York:20180418T210000
LOCATION:11600 Nebel Street\, Rockville\, MD 20852
SUMMARY:Transition Times Joint Meeteing
END:VEVENT
END:VCALENDAR
