BEGIN:VCALENDAR
VERSION:2.0
PRODID:-//thearcmontgomerycounty.org//NONSGML kigkonsult.se iCalcreator 2.3
 0.10//
CALSCALE:GREGORIAN
METHOD:PUBLISH
UID:4ac976e6-a6a2-4213-a3b3-4b487c18bc2b
X-WR-CALDESC:Please register at least one business day in advance. Voluntee
 r Orientations with no registrations will be canceled.
X-WR-RELCALID:8d7337389ca6fe9f5dfd5c9625ee5a30
X-WR-TIMEZONE:America/New_York
BEGIN:VTIMEZONE
TZID:America/New_York
BEGIN:STANDARD
TZNAME:EST
DTSTART:20171105T020000
TZOFFSETFROM:-0400
TZOFFSETTO:-0500
RDATE:20181104T020000
END:STANDARD
BEGIN:DAYLIGHT
TZNAME:EDT
DTSTART:20180311T020000
TZOFFSETFROM:-0500
TZOFFSETTO:-0400
RDATE:20190310T020000
END:DAYLIGHT
END:VTIMEZONE
BEGIN:VEVENT
UID:3e844140-29e0-44df-b4cb-a89653026d59
DTSTAMP:20260422T122742Z
DESCRIPTION:Please register at least one business day in advance. Volunteer
  Orientations with no registrations will be canceled.
DTSTART;TZID=America/New_York:20180419T180000
DTEND;TZID=America/New_York:20180419T190000
LOCATION:11600 Nebel St\, Rockville MD 20852
SUMMARY:Volunteer Orientation
END:VEVENT
END:VCALENDAR
