BEGIN:VCALENDAR
VERSION:2.0
PRODID:-//thearcmontgomerycounty.org//NONSGML kigkonsult.se iCalcreator 2.3
 0.10//
CALSCALE:GREGORIAN
METHOD:PUBLISH
UID:ec588b5b-a2b6-4beb-8fa1-926fb22f9f78
X-WR-CALDESC:An opportunity to learn about DDA waivers from the experts--DD
 A staff.  <i>Presented by Transition Work Group of Montgomery County</i>
X-WR-RELCALID:64ab4c61637ade55839b9c3af04e59de
X-WR-TIMEZONE:America/New_York
BEGIN:VTIMEZONE
TZID:America/New_York
BEGIN:STANDARD
TZNAME:EST
DTSTART:20171105T020000
TZOFFSETFROM:-0400
TZOFFSETTO:-0500
RDATE:20181104T020000
END:STANDARD
BEGIN:DAYLIGHT
TZNAME:EDT
DTSTART:20180311T020000
TZOFFSETFROM:-0500
TZOFFSETTO:-0400
RDATE:20190310T020000
END:DAYLIGHT
END:VTIMEZONE
BEGIN:VEVENT
UID:dcd5cb70-d0a7-4ab1-9d52-cc37bb7e08d8
DTSTAMP:20260422T122608Z
DESCRIPTION:An opportunity to learn about DDA waivers from the experts--DDA
  staff.  <i>Presented by Transition Work Group of Montgomery County</i>
DTSTART;TZID=America/New_York:20180421T100000
DTEND;TZID=America/New_York:20180421T120000
LOCATION:Lt. Joseph P. Kennedy Institute of Catholic Charities\, 1010 Grand
 in Avenue\, Rockville\, MD 20851
SUMMARY:Understanding DDA Waivers Presentation
END:VEVENT
END:VCALENDAR
