BEGIN:VCALENDAR
VERSION:2.0
PRODID:-//thearcmontgomerycounty.org//NONSGML kigkonsult.se iCalcreator 2.3
 0.10//
CALSCALE:GREGORIAN
METHOD:PUBLISH
UID:ecb8f8dc-584e-4a47-81de-861847027bcf
X-WR-CALDESC:
X-WR-RELCALID:b22ea6795976e440321033c5b9d0d882
X-WR-TIMEZONE:America/New_York
BEGIN:VTIMEZONE
TZID:America/New_York
BEGIN:STANDARD
TZNAME:EST
DTSTART:20171105T020000
TZOFFSETFROM:-0400
TZOFFSETTO:-0500
RDATE:20181104T020000
END:STANDARD
BEGIN:DAYLIGHT
TZNAME:EDT
DTSTART:20180311T020000
TZOFFSETFROM:-0500
TZOFFSETTO:-0400
RDATE:20190310T020000
END:DAYLIGHT
END:VTIMEZONE
BEGIN:VEVENT
UID:8960636f-8638-4205-a14c-59502151a039
DTSTAMP:20260422T122510Z
DESCRIPTION:
DTSTART;TZID=America/New_York:20180422T130000
DTEND;TZID=America/New_York:20180422T170000
LOCATION:10611 Tenbrook Drive\, Silver Spring MD 20901
SUMMARY:Sibshops
END:VEVENT
END:VCALENDAR
