BEGIN:VCALENDAR
VERSION:2.0
PRODID:-//thearcmontgomerycounty.org//NONSGML kigkonsult.se iCalcreator 2.3
 0.10//
CALSCALE:GREGORIAN
METHOD:PUBLISH
UID:f8638e32-a4b7-4ec3-a761-7ebd3f64b3fa
X-WR-CALDESC:Adopt Ducks. Win Bucks. Make Change!
X-WR-RELCALID:8ecedbd0db0207b090e414f0f66fad1e
X-WR-TIMEZONE:America/New_York
BEGIN:VTIMEZONE
TZID:America/New_York
BEGIN:STANDARD
TZNAME:EST
DTSTART:20171105T020000
TZOFFSETFROM:-0400
TZOFFSETTO:-0500
RDATE:20181104T020000
END:STANDARD
BEGIN:DAYLIGHT
TZNAME:EDT
DTSTART:20180311T020000
TZOFFSETFROM:-0500
TZOFFSETTO:-0400
RDATE:20190310T020000
END:DAYLIGHT
END:VTIMEZONE
BEGIN:VEVENT
UID:594d77d2-7029-46d8-b2f6-0ed77308ee8b
DTSTAMP:20260422T122834Z
DESCRIPTION:Adopt Ducks. Win Bucks. Make Change!
DTSTART;TZID=America/New_York:20180428T093000
DTEND;TZID=America/New_York:20180428T120000
LOCATION:Veterans Plaza\, Downtown Silver Spring
SUMMARY:Duck Festival
END:VEVENT
END:VCALENDAR
