BEGIN:VCALENDAR
VERSION:2.0
PRODID:-//thearcmontgomerycounty.org//NONSGML kigkonsult.se iCalcreator 2.3
 0.10//
CALSCALE:GREGORIAN
METHOD:PUBLISH
UID:17da5bfe-8a3d-4ffd-8559-480f68c9a79a
X-WR-CALDESC:
X-WR-RELCALID:677d751e0e8af1f2d5260581eef77e8a
X-WR-TIMEZONE:America/New_York
BEGIN:VTIMEZONE
TZID:America/New_York
BEGIN:STANDARD
TZNAME:EST
DTSTART:20171105T020000
TZOFFSETFROM:-0400
TZOFFSETTO:-0500
RDATE:20181104T020000
END:STANDARD
BEGIN:DAYLIGHT
TZNAME:EDT
DTSTART:20180311T020000
TZOFFSETFROM:-0500
TZOFFSETTO:-0400
RDATE:20190310T020000
END:DAYLIGHT
END:VTIMEZONE
BEGIN:VEVENT
UID:049caa33-1771-4385-adc4-e87413e54ce1
DTSTAMP:20260422T105254Z
DESCRIPTION:
DTSTART;TZID=America/New_York:20180502T190000
DTEND;TZID=America/New_York:20180502T203000
LOCATION:11600 Nebel Street\, Rockville\, MD 20852
SUMMARY:Tools for School
END:VEVENT
END:VCALENDAR
