BEGIN:VCALENDAR
VERSION:2.0
PRODID:-//thearcmontgomerycounty.org//NONSGML kigkonsult.se iCalcreator 2.3
 0.10//
CALSCALE:GREGORIAN
METHOD:PUBLISH
UID:93427420-2b82-4df3-9e93-0430cd678582
X-WR-CALDESC:
X-WR-RELCALID:0b80619515a2a5b0abeaced62b71c8f2
X-WR-TIMEZONE:America/New_York
BEGIN:VTIMEZONE
TZID:America/New_York
BEGIN:STANDARD
TZNAME:EST
DTSTART:20171105T020000
TZOFFSETFROM:-0400
TZOFFSETTO:-0500
RDATE:20181104T020000
RDATE:20191103T020000
END:STANDARD
BEGIN:DAYLIGHT
TZNAME:EDT
DTSTART:20180311T020000
TZOFFSETFROM:-0500
TZOFFSETTO:-0400
RDATE:20190310T020000
END:DAYLIGHT
END:VTIMEZONE
BEGIN:VEVENT
UID:19625495-2ddf-4923-9bd2-e695bc52f6b4
DTSTAMP:20260422T105348Z
DESCRIPTION:
DTSTART;TZID=America/New_York:20180506T130000
DTEND;TZID=America/New_York:20180506T170000
LOCATION:10611 Tenbrook Drive\, Silver Spring MD 20901
SUMMARY:Sibshops
END:VEVENT
END:VCALENDAR
