BEGIN:VCALENDAR
VERSION:2.0
PRODID:-//thearcmontgomerycounty.org//NONSGML kigkonsult.se iCalcreator 2.3
 0.10//
CALSCALE:GREGORIAN
METHOD:PUBLISH
UID:04977683-3c36-41f6-94e4-40c5520a45c4
X-WR-CALDESC:Please register at least one business day in advance. Voluntee
 r Orientations with no registrations will be canceled.
X-WR-RELCALID:48f3e3fdb797117f49b49a76c15ca82b
X-WR-TIMEZONE:America/New_York
BEGIN:VTIMEZONE
TZID:America/New_York
BEGIN:STANDARD
TZNAME:EST
DTSTART:20171105T020000
TZOFFSETFROM:-0400
TZOFFSETTO:-0500
RDATE:20181104T020000
RDATE:20191103T020000
END:STANDARD
BEGIN:DAYLIGHT
TZNAME:EDT
DTSTART:20180311T020000
TZOFFSETFROM:-0500
TZOFFSETTO:-0400
RDATE:20190310T020000
END:DAYLIGHT
END:VTIMEZONE
BEGIN:VEVENT
UID:b8d7425f-2ae1-4bc0-b6af-49954ba245de
DTSTAMP:20260422T105542Z
DESCRIPTION:Please register at least one business day in advance. Volunteer
  Orientations with no registrations will be canceled.
DTSTART;TZID=America/New_York:20180514T180000
DTEND;TZID=America/New_York:20180514T190000
LOCATION:11600 Nebel St\, Rockville MD 20852
SUMMARY:Volunteer Orientation
END:VEVENT
END:VCALENDAR
