BEGIN:VCALENDAR
VERSION:2.0
PRODID:-//thearcmontgomerycounty.org//NONSGML kigkonsult.se iCalcreator 2.3
 0.10//
CALSCALE:GREGORIAN
METHOD:PUBLISH
UID:2567542a-3cea-491d-8caf-263cd15bfd37
X-WR-CALDESC:On-site interviews will be conducted for people who have compl
 eted an online Application for Employment in advance.
X-WR-RELCALID:d72939c5c36dc53c21c28a35c66d3ed4
X-WR-TIMEZONE:America/New_York
BEGIN:VTIMEZONE
TZID:America/New_York
BEGIN:STANDARD
TZNAME:EST
DTSTART:20171105T020000
TZOFFSETFROM:-0400
TZOFFSETTO:-0500
RDATE:20181104T020000
RDATE:20191103T020000
END:STANDARD
BEGIN:DAYLIGHT
TZNAME:EDT
DTSTART:20180311T020000
TZOFFSETFROM:-0500
TZOFFSETTO:-0400
RDATE:20190310T020000
END:DAYLIGHT
END:VTIMEZONE
BEGIN:VEVENT
UID:e149c79a-5df8-45b2-a0d9-35921fc403bc
DTSTAMP:20260422T105444Z
DESCRIPTION:On-site interviews will be conducted for people who have comple
 ted an online Application for Employment in advance.
DTSTART;TZID=America/New_York:20180517T100000
DTEND;TZID=America/New_York:20180517T180000
LOCATION:11600 Nebel Street\, Rockville\, MD 20852
SUMMARY:Job Fair
END:VEVENT
END:VCALENDAR
