BEGIN:VCALENDAR
VERSION:2.0
PRODID:-//thearcmontgomerycounty.org//NONSGML kigkonsult.se iCalcreator 2.3
 0.10//
CALSCALE:GREGORIAN
METHOD:PUBLISH
UID:30bfb2e2-5aba-4b12-8113-17809335fc5a
X-WR-CALDESC:This Even will be held at The Universities at Shady Grove\nA d
 ay of fun\, a better future for children!\n\nThe Child Care Resource & Ref
 erral Center and Montgomery County Infants and Toddlers Program have combi
 ned their events\, along with other programs in Early Childhood Services (
 Child Care in Public Space\, Early Childhood Mental Health\, and Child Lin
 k) to proudly host the first event of its kind in Montgomery County. A day
  focused on family and educator resources and services for children of all
  abilities\, birth to five.
X-WR-RELCALID:7e54d9c32e51d1caaecbfa746119c5cd
X-WR-TIMEZONE:America/New_York
BEGIN:VTIMEZONE
TZID:America/New_York
BEGIN:STANDARD
TZNAME:EST
DTSTART:20171105T020000
TZOFFSETFROM:-0400
TZOFFSETTO:-0500
RDATE:20181104T020000
RDATE:20191103T020000
END:STANDARD
BEGIN:DAYLIGHT
TZNAME:EDT
DTSTART:20180311T020000
TZOFFSETFROM:-0500
TZOFFSETTO:-0400
RDATE:20190310T020000
END:DAYLIGHT
END:VTIMEZONE
BEGIN:VEVENT
UID:3ff756d0-1d52-4e51-ac32-0eb12c2dfc52
DTSTAMP:20260422T105924Z
DESCRIPTION:This Even will be held at The Universities at Shady Grove\nA da
 y of fun\, a better future for children!\n\nThe Child Care Resource & Refe
 rral Center and Montgomery County Infants and Toddlers Program have combin
 ed their events\, along with other programs in Early Childhood Services (C
 hild Care in Public Space\, Early Childhood Mental Health\, and Child Link
 ) to proudly host the first event of its kind in Montgomery County. A day 
 focused on family and educator resources and services for children of all 
 abilities\, birth to five.
DTSTART;TZID=America/New_York:20180519T100000
DTEND;TZID=America/New_York:20180519T130000
LOCATION:9630 Gudelsky Dr\, Rockville\, Maryland 20850
SUMMARY:Champions for Children 2018
END:VEVENT
END:VCALENDAR
