BEGIN:VCALENDAR
VERSION:2.0
PRODID:-//thearcmontgomerycounty.org//NONSGML kigkonsult.se iCalcreator 2.3
 0.10//
CALSCALE:GREGORIAN
METHOD:PUBLISH
UID:cacd9acb-19b7-46f9-89d9-de2c0915e560
X-WR-CALDESC:<b>MEMBERSHIP MEETING plus 60th Birthday Celebration\, 6-8 pm<
 /b>\nThe Membership Meeting is open only to current members of The Arc Mon
 tgomery County.  Twelve months of membership is conferred for any donation
  of $50 or more\, beginning on the date of the contribution.  If you have 
 questions regarding your membership status\, contact Doug Gaddis at 301.98
 4.5777 x1244.  \n<b><i>Current members click here to register: https://goo
 .gl/forms/TfngSZUH2KbGO9412 </i></b>\n\n<b>STAFF TENURE AWARD CEREMONY plu
 s 60th Birthday Celebration\, 7-8 pm</b>\nThe Staff Tenure Award Ceremony 
 is to celebrate staff with 5\, 10\, or 15 years of service to the agency. 
  Each staff being honored may bring two guests.  Staff recognized at the M
 arch event should use the link below to register for the 60th Birthday Cel
 ebration only.  \n<b><i>Staff receiving 5\, 10 or 15 year tenure awards cl
 ick here to register: https://goo.gl/forms/E9BFeXcVvbp3RgHh1 </i></b>\n\n<
 b>60TH BIRTHDAY CELEBRATION ONLY\, 7-8 pm</b>\nThe 60th Birthday Celebrati
 on is open to all staff and people receiving support services from The Arc
  Montgomery County\, plus their family members.  If you have registered in
  one of the categories above\, DO NOT register again!  \n<b><i>If you are 
 NOT a member and NOT receiving a tenure award\, click here to register: ht
 tps://goo.gl/forms/2dy1V0kLvWdC8Wdk1 </i></b>.\n\n
X-WR-RELCALID:69631ba12c7c5beb7d0f57ec7a216e69
X-WR-TIMEZONE:America/New_York
BEGIN:VTIMEZONE
TZID:America/New_York
BEGIN:STANDARD
TZNAME:EST
DTSTART:20171105T020000
TZOFFSETFROM:-0400
TZOFFSETTO:-0500
RDATE:20181104T020000
RDATE:20191103T020000
END:STANDARD
BEGIN:DAYLIGHT
TZNAME:EDT
DTSTART:20180311T020000
TZOFFSETFROM:-0500
TZOFFSETTO:-0400
RDATE:20190310T020000
END:DAYLIGHT
END:VTIMEZONE
BEGIN:VEVENT
UID:fda3a0a0-8b28-4a5e-9c53-636f09bc0f27
DTSTAMP:20260422T110116Z
DESCRIPTION:<b>MEMBERSHIP MEETING plus 60th Birthday Celebration\, 6-8 pm</
 b>\nThe Membership Meeting is open only to current members of The Arc Mont
 gomery County.  Twelve months of membership is conferred for any donation 
 of $50 or more\, beginning on the date of the contribution.  If you have q
 uestions regarding your membership status\, contact Doug Gaddis at 301.984
 .5777 x1244.  \n<b><i>Current members click here to register: https://goo.
 gl/forms/TfngSZUH2KbGO9412 </i></b>\n\n<b>STAFF TENURE AWARD CEREMONY plus
  60th Birthday Celebration\, 7-8 pm</b>\nThe Staff Tenure Award Ceremony i
 s to celebrate staff with 5\, 10\, or 15 years of service to the agency.  
 Each staff being honored may bring two guests.  Staff recognized at the Ma
 rch event should use the link below to register for the 60th Birthday Cele
 bration only.  \n<b><i>Staff receiving 5\, 10 or 15 year tenure awards cli
 ck here to register: https://goo.gl/forms/E9BFeXcVvbp3RgHh1 </i></b>\n\n<b
 >60TH BIRTHDAY CELEBRATION ONLY\, 7-8 pm</b>\nThe 60th Birthday Celebratio
 n is open to all staff and people receiving support services from The Arc 
 Montgomery County\, plus their family members.  If you have registered in 
 one of the categories above\, DO NOT register again!  \n<b><i>If you are N
 OT a member and NOT receiving a tenure award\, click here to register: htt
 ps://goo.gl/forms/2dy1V0kLvWdC8Wdk1 </i></b>.\n\n
DTSTART;TZID=America/New_York:20180622T000000
DTEND;TZID=America/New_York:20180622T235900
LOCATION:KFICCC\, Silver Spring\, MD 20901
SUMMARY:Membership Meeting\, Staff Tenure Award Ceremony & 60th Birthday Ce
 lebration
END:VEVENT
END:VCALENDAR
