BEGIN:VCALENDAR
VERSION:2.0
PRODID:-//thearcmontgomerycounty.org//NONSGML kigkonsult.se iCalcreator 2.3
 0.10//
CALSCALE:GREGORIAN
METHOD:PUBLISH
UID:76dbd21d-1fde-4ffd-87d6-855fb2480891
X-WR-CALDESC:
X-WR-RELCALID:d1f73228a0c56c0ddc817e979ca71993
X-WR-TIMEZONE:America/New_York
BEGIN:VTIMEZONE
TZID:America/New_York
BEGIN:STANDARD
TZNAME:EST
DTSTART:20171105T020000
TZOFFSETFROM:-0400
TZOFFSETTO:-0500
RDATE:20181104T020000
RDATE:20191103T020000
END:STANDARD
BEGIN:DAYLIGHT
TZNAME:EDT
DTSTART:20180311T020000
TZOFFSETFROM:-0500
TZOFFSETTO:-0400
RDATE:20190310T020000
END:DAYLIGHT
END:VTIMEZONE
BEGIN:VEVENT
UID:7973efa6-bf65-4a75-b503-40a1d3cb5b53
DTSTAMP:20260422T091638Z
DESCRIPTION:
DTSTART;TZID=America/New_York:20180719T193000
DTEND;TZID=America/New_York:20180719T210000
LOCATION:11600 Nebel Street\, Rockville\, MD 20852
SUMMARY:Transition Times Joint Meeting
END:VEVENT
END:VCALENDAR
