BEGIN:VCALENDAR
VERSION:2.0
PRODID:-//thearcmontgomerycounty.org//NONSGML kigkonsult.se iCalcreator 2.3
 0.10//
CALSCALE:GREGORIAN
METHOD:PUBLISH
UID:1dcfedd6-8dcd-4839-a35f-f7911ff504ab
X-WR-CALDESC:
X-WR-RELCALID:e423cc08b13ed90626753afc7ad0e97d
X-WR-TIMEZONE:America/New_York
BEGIN:VTIMEZONE
TZID:America/New_York
BEGIN:STANDARD
TZNAME:EST
DTSTART:20171105T020000
TZOFFSETFROM:-0400
TZOFFSETTO:-0500
RDATE:20181104T020000
RDATE:20191103T020000
END:STANDARD
BEGIN:DAYLIGHT
TZNAME:EDT
DTSTART:20180311T020000
TZOFFSETFROM:-0500
TZOFFSETTO:-0400
RDATE:20190310T020000
RDATE:20200308T020000
END:DAYLIGHT
END:VTIMEZONE
BEGIN:VEVENT
UID:7214a914-cb74-4e12-a443-5f11866d1281
DTSTAMP:20260422T045659Z
DESCRIPTION:
DTSTART;TZID=America/New_York:20180923T130000
DTEND;TZID=America/New_York:20180923T170000
LOCATION:10611 Tenbrook Drive\, Silver Spring MD 20901
SUMMARY:Sibshops
END:VEVENT
END:VCALENDAR
