BEGIN:VCALENDAR
VERSION:2.0
PRODID:-//thearcmontgomerycounty.org//NONSGML kigkonsult.se iCalcreator 2.3
 0.10//
CALSCALE:GREGORIAN
METHOD:PUBLISH
UID:d3e6494b-a808-46c2-ac97-ac367213d10a
X-WR-CALDESC:
X-WR-RELCALID:8ff2d9cd9481cbd4e163bd8780a19224
X-WR-TIMEZONE:America/New_York
BEGIN:VTIMEZONE
TZID:America/New_York
BEGIN:STANDARD
TZNAME:EST
DTSTART:20171105T020000
TZOFFSETFROM:-0400
TZOFFSETTO:-0500
RDATE:20181104T020000
RDATE:20191103T020000
END:STANDARD
BEGIN:DAYLIGHT
TZNAME:EDT
DTSTART:20180311T020000
TZOFFSETFROM:-0500
TZOFFSETTO:-0400
RDATE:20190310T020000
RDATE:20200308T020000
END:DAYLIGHT
END:VTIMEZONE
BEGIN:VEVENT
UID:55ffcfcb-ff19-4d0e-99cc-d19eceed90c9
DTSTAMP:20260422T034929Z
DESCRIPTION:
DTSTART;TZID=America/New_York:20181003T193000
DTEND;TZID=America/New_York:20181003T210000
LOCATION:11600 Nebel Street\, Rockville\, MD 20852
SUMMARY:Tools for School
END:VEVENT
END:VCALENDAR
