BEGIN:VCALENDAR
VERSION:2.0
PRODID:-//thearcmontgomerycounty.org//NONSGML kigkonsult.se iCalcreator 2.3
 0.10//
CALSCALE:GREGORIAN
METHOD:PUBLISH
UID:41911734-b498-4209-a8bc-b17a3b9a4664
X-WR-CALDESC:
X-WR-RELCALID:8e8ea192cb5f75f41abe7f54d215b69f
X-WR-TIMEZONE:America/New_York
BEGIN:VTIMEZONE
TZID:America/New_York
BEGIN:STANDARD
TZNAME:EST
DTSTART:20171105T020000
TZOFFSETFROM:-0400
TZOFFSETTO:-0500
RDATE:20181104T020000
RDATE:20191103T020000
END:STANDARD
BEGIN:DAYLIGHT
TZNAME:EDT
DTSTART:20180311T020000
TZOFFSETFROM:-0500
TZOFFSETTO:-0400
RDATE:20190310T020000
RDATE:20200308T020000
END:DAYLIGHT
END:VTIMEZONE
BEGIN:VEVENT
UID:ede71e25-87fa-41fb-b4c2-c4f1b459e3dd
DTSTAMP:20260422T035118Z
DESCRIPTION:
DTSTART;TZID=America/New_York:20181017T193000
DTEND;TZID=America/New_York:20181017T210000
LOCATION:11600 Nebel Street\, Rockville\, MD 20852
SUMMARY:Transition Times Meeting
END:VEVENT
END:VCALENDAR
