BEGIN:VCALENDAR
VERSION:2.0
PRODID:-//thearcmontgomerycounty.org//NONSGML kigkonsult.se iCalcreator 2.3
 0.10//
CALSCALE:GREGORIAN
METHOD:PUBLISH
UID:c0a1abc4-51f3-443a-9ccb-cb560f7fdcd3
X-WR-CALDESC:Our largest fundraising event of the year!  To purchase ticket
 s\, visit www.TheArcGala.com.
X-WR-RELCALID:4e80261c9eeaaa3b4cd719094f8f1706
X-WR-TIMEZONE:America/New_York
BEGIN:VTIMEZONE
TZID:America/New_York
BEGIN:STANDARD
TZNAME:EST
DTSTART:20171105T020000
TZOFFSETFROM:-0400
TZOFFSETTO:-0500
RDATE:20181104T020000
RDATE:20191103T020000
END:STANDARD
BEGIN:DAYLIGHT
TZNAME:EDT
DTSTART:20180311T020000
TZOFFSETFROM:-0500
TZOFFSETTO:-0400
RDATE:20190310T020000
RDATE:20200308T020000
END:DAYLIGHT
END:VTIMEZONE
BEGIN:VEVENT
UID:19b32b9e-6e82-4e45-931d-202f6e2fcf4f
DTSTAMP:20260422T050626Z
DESCRIPTION:Our largest fundraising event of the year!  To purchase tickets
 \, visit www.TheArcGala.com.
DTSTART;TZID=America/New_York:20181026T183000
DTEND;TZID=America/New_York:20181026T223000
LOCATION:North Bethesda Conference Center\, 5701 Marinelli Road\, N. Bethes
 da\, MD 20852
SUMMARY:The Arc Halloween Gala
END:VEVENT
END:VCALENDAR
