BEGIN:VCALENDAR
VERSION:2.0
PRODID:-//thearcmontgomerycounty.org//NONSGML kigkonsult.se iCalcreator 2.3
 0.10//
CALSCALE:GREGORIAN
METHOD:PUBLISH
UID:76369e95-ee8a-4db2-8fca-898d44e4043b
X-WR-CALDESC:
X-WR-RELCALID:619120e3f234a2070e10d409be86d851
X-WR-TIMEZONE:America/New_York
BEGIN:VTIMEZONE
TZID:America/New_York
BEGIN:STANDARD
TZNAME:EST
DTSTART:20181104T020000
TZOFFSETFROM:-0400
TZOFFSETTO:-0500
RDATE:20191103T020000
END:STANDARD
BEGIN:DAYLIGHT
TZNAME:EDT
DTSTART:20180311T020000
TZOFFSETFROM:-0500
TZOFFSETTO:-0400
RDATE:20190310T020000
RDATE:20200308T020000
END:DAYLIGHT
END:VTIMEZONE
BEGIN:VEVENT
UID:19746788-4561-4040-a451-c75197ead637
DTSTAMP:20260422T021303Z
DESCRIPTION:
DTSTART;TZID=America/New_York:20181107T193000
DTEND;TZID=America/New_York:20181107T210000
LOCATION:11600 Nebel Street\, Rockville\, MD 20852
SUMMARY:Tools for School
END:VEVENT
END:VCALENDAR
