BEGIN:VCALENDAR
VERSION:2.0
PRODID:-//thearcmontgomerycounty.org//NONSGML kigkonsult.se iCalcreator 2.3
 0.10//
CALSCALE:GREGORIAN
METHOD:PUBLISH
UID:eed0874d-a225-42be-bb32-660faee1d7ce
X-WR-CALDESC:
X-WR-RELCALID:7afa1406f0270ac358ed50e3a5dc93cd
X-WR-TIMEZONE:America/New_York
BEGIN:VTIMEZONE
TZID:America/New_York
BEGIN:STANDARD
TZNAME:EST
DTSTART:20181104T020000
TZOFFSETFROM:-0400
TZOFFSETTO:-0500
RDATE:20191103T020000
END:STANDARD
BEGIN:DAYLIGHT
TZNAME:EDT
DTSTART:20180311T020000
TZOFFSETFROM:-0500
TZOFFSETTO:-0400
RDATE:20190310T020000
RDATE:20200308T020000
END:DAYLIGHT
END:VTIMEZONE
BEGIN:VEVENT
UID:793f662f-e582-4670-b455-e589e387102b
DTSTAMP:20260422T021726Z
DESCRIPTION:
DTSTART;TZID=America/New_York:20181114T193000
DTEND;TZID=America/New_York:20181114T210000
LOCATION:11600 Nebel Street\, Rockville\, MD 20852
SUMMARY:Transition Times Meeting
END:VEVENT
END:VCALENDAR
