BEGIN:VCALENDAR
VERSION:2.0
PRODID:-//thearcmontgomerycounty.org//NONSGML kigkonsult.se iCalcreator 2.3
 0.10//
CALSCALE:GREGORIAN
METHOD:PUBLISH
UID:ed50890f-ad2a-4202-b09d-317765481d1e
X-WR-CALDESC:Offices closed.\nChildren & Youth Services programs closed.\nV
 ocational & Day Services programs closed.
X-WR-RELCALID:67ef752c858e9c3f7cbb6b899bd4357e
X-WR-TIMEZONE:America/New_York
BEGIN:VTIMEZONE
TZID:America/New_York
BEGIN:STANDARD
TZNAME:EST
DTSTART:20181104T020000
TZOFFSETFROM:-0400
TZOFFSETTO:-0500
RDATE:20191103T020000
END:STANDARD
BEGIN:DAYLIGHT
TZNAME:EDT
DTSTART:20180311T020000
TZOFFSETFROM:-0500
TZOFFSETTO:-0400
RDATE:20190310T020000
RDATE:20200308T020000
END:DAYLIGHT
END:VTIMEZONE
BEGIN:VEVENT
UID:691748d7-84f6-4ee2-8a61-ed3abf433bb7
DTSTAMP:20260422T021608Z
DESCRIPTION:Offices closed.\nChildren & Youth Services programs closed.\nVo
 cational & Day Services programs closed.
DTSTART;TZID=America/New_York:20181122T000000
DTEND;TZID=America/New_York:20181122T235900
LOCATION:
SUMMARY:Thanksgiving Holiday
END:VEVENT
END:VCALENDAR
