BEGIN:VCALENDAR
VERSION:2.0
PRODID:-//thearcmontgomerycounty.org//NONSGML kigkonsult.se iCalcreator 2.3
 0.10//
CALSCALE:GREGORIAN
METHOD:PUBLISH
UID:6247d63f-4765-4526-bb2c-7f21c6c2b4f8
X-WR-CALDESC:
X-WR-RELCALID:e2e5e3a983dbfb7516ff9de15fe038c2
X-WR-TIMEZONE:America/New_York
BEGIN:VTIMEZONE
TZID:America/New_York
BEGIN:STANDARD
TZNAME:EST
DTSTART:20181104T020000
TZOFFSETFROM:-0400
TZOFFSETTO:-0500
RDATE:20191103T020000
END:STANDARD
BEGIN:DAYLIGHT
TZNAME:EDT
DTSTART:20180311T020000
TZOFFSETFROM:-0500
TZOFFSETTO:-0400
RDATE:20190310T020000
RDATE:20200308T020000
END:DAYLIGHT
END:VTIMEZONE
BEGIN:VEVENT
UID:32dd5248-aa27-4d73-869e-273c55ff595d
DTSTAMP:20260422T005443Z
DESCRIPTION:
DTSTART;TZID=America/New_York:20181205T193000
DTEND;TZID=America/New_York:20181205T210000
LOCATION:11600 Nebel Street\, Rockville\, MD 20852
SUMMARY:Tools for School
END:VEVENT
END:VCALENDAR
