BEGIN:VCALENDAR
VERSION:2.0
PRODID:-//thearcmontgomerycounty.org//NONSGML kigkonsult.se iCalcreator 2.3
 0.10//
CALSCALE:GREGORIAN
METHOD:PUBLISH
UID:8060f3e2-8048-4545-b0e4-2e84088be077
X-WR-CALDESC:Shop for special holiday gifts and also give back!  Zaaf Colle
 ction specializes in premium leather goods and accessories for men and wom
 en\, handcrafted by artisans in Ethiopia.  20% of proceeds will be donated
  to The Arc Montgomery County.  www.zaafcollection.com
X-WR-RELCALID:efeaac3c54e54ca171de53ba8367d124
X-WR-TIMEZONE:America/New_York
BEGIN:VTIMEZONE
TZID:America/New_York
BEGIN:STANDARD
TZNAME:EST
DTSTART:20181104T020000
TZOFFSETFROM:-0400
TZOFFSETTO:-0500
RDATE:20191103T020000
END:STANDARD
BEGIN:DAYLIGHT
TZNAME:EDT
DTSTART:20180311T020000
TZOFFSETFROM:-0500
TZOFFSETTO:-0400
RDATE:20190310T020000
RDATE:20200308T020000
END:DAYLIGHT
END:VTIMEZONE
BEGIN:VEVENT
UID:fd33ef28-b9bc-4f40-960e-280fb4f1e2e2
DTSTAMP:20260422T005831Z
DESCRIPTION:Shop for special holiday gifts and also give back!  Zaaf Collec
 tion specializes in premium leather goods and accessories for men and wome
 n\, handcrafted by artisans in Ethiopia.  20% of proceeds will be donated 
 to The Arc Montgomery County.  www.zaafcollection.com
DTSTART;TZID=America/New_York:20181215T140000
DTEND;TZID=America/New_York:20181215T180000
LOCATION:1409 Florida Avenue\, NW\, Washington\, DC 20009
SUMMARY:Zaaf Collection Promotion Fundraiser
END:VEVENT
END:VCALENDAR
