BEGIN:VCALENDAR
VERSION:2.0
PRODID:-//thearcmontgomerycounty.org//NONSGML kigkonsult.se iCalcreator 2.3
 0.10//
CALSCALE:GREGORIAN
METHOD:PUBLISH
UID:e817e4d9-c56a-4c70-a0e2-ac1825147d39
X-WR-CALDESC:
X-WR-RELCALID:9223e57d075782b111a2b332403ff4b8
X-WR-TIMEZONE:America/New_York
BEGIN:VTIMEZONE
TZID:America/New_York
BEGIN:STANDARD
TZNAME:EST
DTSTART:20181104T020000
TZOFFSETFROM:-0400
TZOFFSETTO:-0500
RDATE:20191103T020000
END:STANDARD
BEGIN:DAYLIGHT
TZNAME:EDT
DTSTART:20180311T020000
TZOFFSETFROM:-0500
TZOFFSETTO:-0400
RDATE:20190310T020000
RDATE:20200308T020000
END:DAYLIGHT
END:VTIMEZONE
BEGIN:VEVENT
UID:0a90cc02-8e1e-49f1-ade2-fd21204c2a0c
DTSTAMP:20260421T233704Z
DESCRIPTION:
DTSTART;TZID=America/New_York:20190116T193000
DTEND;TZID=America/New_York:20190116T210000
LOCATION:11600 Nebel Street\, Rockville\, MD 20852
SUMMARY:Transition Times Meeting
END:VEVENT
END:VCALENDAR
