BEGIN:VCALENDAR
VERSION:2.0
PRODID:-//thearcmontgomerycounty.org//NONSGML kigkonsult.se iCalcreator 2.3
 0.10//
CALSCALE:GREGORIAN
METHOD:PUBLISH
UID:34f10683-ef49-421b-9879-71360e06f2b9
X-WR-CALDESC:Recognition event for staff receiving tenure awards and their 
 guests.
X-WR-RELCALID:8246d959664898c082c90884f819bf59
X-WR-TIMEZONE:America/New_York
BEGIN:VTIMEZONE
TZID:America/New_York
BEGIN:STANDARD
TZNAME:EST
DTSTART:20181104T020000
TZOFFSETFROM:-0400
TZOFFSETTO:-0500
RDATE:20191103T020000
END:STANDARD
BEGIN:DAYLIGHT
TZNAME:EDT
DTSTART:20180311T020000
TZOFFSETFROM:-0500
TZOFFSETTO:-0400
RDATE:20190310T020000
RDATE:20200308T020000
END:DAYLIGHT
END:VTIMEZONE
BEGIN:VEVENT
UID:6054810d-25be-4ecd-914b-3df5a0a4e6bd
DTSTAMP:20260421T220934Z
DESCRIPTION:Recognition event for staff receiving tenure awards and their g
 uests.
DTSTART;TZID=America/New_York:20190205T190000
DTEND;TZID=America/New_York:20190205T203000
LOCATION:BY INVITATION ONLY
SUMMARY:Staff Tenure Recognition Ceremony
END:VEVENT
END:VCALENDAR
