BEGIN:VCALENDAR
VERSION:2.0
PRODID:-//thearcmontgomerycounty.org//NONSGML kigkonsult.se iCalcreator 2.3
 0.10//
CALSCALE:GREGORIAN
METHOD:PUBLISH
UID:9de57005-9f9b-4ac9-a9e1-57ab12c2f392
X-WR-CALDESC:Cancelled due to inclement weather.  Rescheduled for Wednesday
 \, February 27\, 5-6:30 pm.
X-WR-RELCALID:2dadaba92c0296fb673c4760f2894a3d
X-WR-TIMEZONE:America/New_York
BEGIN:VTIMEZONE
TZID:America/New_York
BEGIN:STANDARD
TZNAME:EST
DTSTART:20181104T020000
TZOFFSETFROM:-0400
TZOFFSETTO:-0500
RDATE:20191103T020000
END:STANDARD
BEGIN:DAYLIGHT
TZNAME:EDT
DTSTART:20180311T020000
TZOFFSETFROM:-0500
TZOFFSETTO:-0400
RDATE:20190310T020000
RDATE:20200308T020000
END:DAYLIGHT
END:VTIMEZONE
BEGIN:VEVENT
UID:b4f13456-3b16-4d66-be51-2da2ef33b97d
DTSTAMP:20260421T221509Z
DESCRIPTION:Cancelled due to inclement weather.  Rescheduled for Wednesday\
 , February 27\, 5-6:30 pm.
DTSTART;TZID=America/New_York:20190211T183000
DTEND;TZID=America/New_York:20190211T200000
LOCATION:Rescheduled to February 27\; see that date for details.
SUMMARY:CANCELLED-Public Policy Committee Meeting
END:VEVENT
END:VCALENDAR
