BEGIN:VCALENDAR
VERSION:2.0
PRODID:-//thearcmontgomerycounty.org//NONSGML kigkonsult.se iCalcreator 2.3
 0.10//
CALSCALE:GREGORIAN
METHOD:PUBLISH
UID:832d2426-6f03-4578-8b44-dbd43a7347d3
X-WR-CALDESC:Cancelled due to inclement weather.  Rescheduled for Wednesday
 \, March 20\, 7:30-9:00 pm.
X-WR-RELCALID:0a4eac53f6a80d8769066dc3db37f995
X-WR-TIMEZONE:America/New_York
BEGIN:VTIMEZONE
TZID:America/New_York
BEGIN:STANDARD
TZNAME:EST
DTSTART:20181104T020000
TZOFFSETFROM:-0400
TZOFFSETTO:-0500
RDATE:20191103T020000
END:STANDARD
BEGIN:DAYLIGHT
TZNAME:EDT
DTSTART:20180311T020000
TZOFFSETFROM:-0500
TZOFFSETTO:-0400
RDATE:20190310T020000
RDATE:20200308T020000
END:DAYLIGHT
END:VTIMEZONE
BEGIN:VEVENT
UID:6dfff5ea-3106-4ce0-9f0f-e06c6ee4608a
DTSTAMP:20260421T221113Z
DESCRIPTION:Cancelled due to inclement weather.  Rescheduled for Wednesday\
 , March 20\, 7:30-9:00 pm.
DTSTART;TZID=America/New_York:20190220T193000
DTEND;TZID=America/New_York:20190220T210000
LOCATION:Rescheduled to March 20\; see that date for details.
SUMMARY:CANCELLED-Transition Times Meeting
END:VEVENT
END:VCALENDAR
