BEGIN:VCALENDAR
VERSION:2.0
PRODID:-//thearcmontgomerycounty.org//NONSGML kigkonsult.se iCalcreator 2.3
 0.10//
CALSCALE:GREGORIAN
METHOD:PUBLISH
UID:4c23d2bf-b9ad-4fc6-9edf-6b359d276839
X-WR-CALDESC:<b>Are you a dedicated and motivated ­­person interested in he
 lping people of all ages with diverse needs to reach their full potential?
   If so\, join our dynamic team!</b>\n\nOn-site interviews will be conduct
 ed for Residential Support Staff\, Support Professionals\, Support Service
  Counselors\, Teachers and Teacher Assistants who have completed an Applic
 ation for Employment online\, bring the completed application to the job f
 air (printed)\, and possess the minimum qualifications.
X-WR-RELCALID:6c2d355aa15ca3c7678432c41b4fb620
X-WR-TIMEZONE:America/New_York
BEGIN:VTIMEZONE
TZID:America/New_York
BEGIN:STANDARD
TZNAME:EST
DTSTART:20181104T020000
TZOFFSETFROM:-0400
TZOFFSETTO:-0500
RDATE:20191103T020000
END:STANDARD
BEGIN:DAYLIGHT
TZNAME:EDT
DTSTART:20180311T020000
TZOFFSETFROM:-0500
TZOFFSETTO:-0400
RDATE:20190310T020000
RDATE:20200308T020000
END:DAYLIGHT
END:VTIMEZONE
BEGIN:VEVENT
UID:e66acb15-48fe-4d96-aa09-9a933c086fd1
DTSTAMP:20260421T220934Z
DESCRIPTION:<b>Are you a dedicated and motivated ­­person interested in hel
 ping people of all ages with diverse needs to reach their full potential? 
  If so\, join our dynamic team!</b>\n\nOn-site interviews will be conducte
 d for Residential Support Staff\, Support Professionals\, Support Service 
 Counselors\, Teachers and Teacher Assistants who have completed an Applica
 tion for Employment online\, bring the completed application to the job fa
 ir (printed)\, and possess the minimum qualifications.
DTSTART;TZID=America/New_York:20190225T100000
DTEND;TZID=America/New_York:20190225T180000
LOCATION:11600 Nebel Street\, Rockville\, MD 20852
SUMMARY:Job Fair
END:VEVENT
END:VCALENDAR
