BEGIN:VCALENDAR
VERSION:2.0
PRODID:-//thearcmontgomerycounty.org//NONSGML kigkonsult.se iCalcreator 2.3
 0.10//
CALSCALE:GREGORIAN
METHOD:PUBLISH
UID:6800e2c2-b6e6-4f6d-90cc-097412f4e1f4
X-WR-CALDESC:Rescheduled from Monday\, February 11.
X-WR-RELCALID:5bbed72e7713b519375437463299212c
X-WR-TIMEZONE:America/New_York
BEGIN:VTIMEZONE
TZID:America/New_York
BEGIN:STANDARD
TZNAME:EST
DTSTART:20181104T020000
TZOFFSETFROM:-0400
TZOFFSETTO:-0500
RDATE:20191103T020000
END:STANDARD
BEGIN:DAYLIGHT
TZNAME:EDT
DTSTART:20180311T020000
TZOFFSETFROM:-0500
TZOFFSETTO:-0400
RDATE:20190310T020000
RDATE:20200308T020000
END:DAYLIGHT
END:VTIMEZONE
BEGIN:VEVENT
UID:deb04f11-f8dd-45a7-b7d3-f4bf50071cd1
DTSTAMP:20260421T221120Z
DESCRIPTION:Rescheduled from Monday\, February 11.
DTSTART;TZID=America/New_York:20190227T170000
DTEND;TZID=America/New_York:20190227T183000
LOCATION:11600 Nebel Street\, Rockville\, MD 20852
SUMMARY:RESCHEDULED-Public Policy Committee
END:VEVENT
END:VCALENDAR
