BEGIN:VCALENDAR
VERSION:2.0
PRODID:-//thearcmontgomerycounty.org//NONSGML kigkonsult.se iCalcreator 2.3
 0.10//
CALSCALE:GREGORIAN
METHOD:PUBLISH
UID:59f7f97f-c224-4f42-bcf2-a4f81513d012
X-WR-CALDESC:11600 Nebel Street\, Rockville\, MD 20852\n\n<b>Participation 
 and voting are restricted to current members of The Arc Montgomery County.
  </b>
X-WR-RELCALID:4710ec3eb3ec001f949ddeb09ecb69ea
X-WR-TIMEZONE:America/New_York
BEGIN:VTIMEZONE
TZID:America/New_York
BEGIN:STANDARD
TZNAME:EST
DTSTART:20181104T020000
TZOFFSETFROM:-0400
TZOFFSETTO:-0500
RDATE:20191103T020000
END:STANDARD
BEGIN:DAYLIGHT
TZNAME:EDT
DTSTART:20180311T020000
TZOFFSETFROM:-0500
TZOFFSETTO:-0400
RDATE:20190310T020000
RDATE:20200308T020000
END:DAYLIGHT
END:VTIMEZONE
BEGIN:VEVENT
UID:7168621f-df32-43c6-a15c-29a2cb3657a9
DTSTAMP:20260421T220951Z
DESCRIPTION:11600 Nebel Street\, Rockville\, MD 20852\n\n<b>Participation a
 nd voting are restricted to current members of The Arc Montgomery County. 
 </b>
DTSTART;TZID=America/New_York:20190227T190000
DTEND;TZID=America/New_York:20190227T200000
LOCATION:FOR MEMBERS ONLY
SUMMARY:Special Membership Meeting
END:VEVENT
END:VCALENDAR
