BEGIN:VCALENDAR
VERSION:2.0
PRODID:-//thearcmontgomerycounty.org//NONSGML kigkonsult.se iCalcreator 2.3
 0.10//
CALSCALE:GREGORIAN
METHOD:PUBLISH
UID:4d7612c7-1d73-4fc7-b1e9-169ddc212e7a
X-WR-CALDESC:Please register at least one business day in advance. Voluntee
 r Orientations with no registrations will be canceled.
X-WR-RELCALID:ac834abf2f273ed1a4bd41b397b17ae8
X-WR-TIMEZONE:America/New_York
BEGIN:VTIMEZONE
TZID:America/New_York
BEGIN:STANDARD
TZNAME:EST
DTSTART:20181104T020000
TZOFFSETFROM:-0400
TZOFFSETTO:-0500
RDATE:20191103T020000
END:STANDARD
BEGIN:DAYLIGHT
TZNAME:EDT
DTSTART:20180311T020000
TZOFFSETFROM:-0500
TZOFFSETTO:-0400
RDATE:20190310T020000
RDATE:20200308T020000
END:DAYLIGHT
END:VTIMEZONE
BEGIN:VEVENT
UID:0814ea21-89a9-44d3-8e85-245812f2fde4
DTSTAMP:20260421T204137Z
DESCRIPTION:Please register at least one business day in advance. Volunteer
  Orientations with no registrations will be canceled.
DTSTART;TZID=America/New_York:20190301T160000
DTEND;TZID=America/New_York:20190301T170000
LOCATION:11600 Nebel Street\, Rockville\, MD 20852
SUMMARY:Volunteer Orientation
END:VEVENT
END:VCALENDAR
