BEGIN:VCALENDAR
VERSION:2.0
PRODID:-//thearcmontgomerycounty.org//NONSGML kigkonsult.se iCalcreator 2.3
 0.10//
CALSCALE:GREGORIAN
METHOD:PUBLISH
UID:c9924ff0-2d80-4588-a079-69148d27708b
X-WR-CALDESC:
X-WR-RELCALID:e7a6193c26aa2c292ea0d99d3ac3b1e6
X-WR-TIMEZONE:America/New_York
BEGIN:VTIMEZONE
TZID:America/New_York
BEGIN:STANDARD
TZNAME:EST
DTSTART:20181104T020000
TZOFFSETFROM:-0400
TZOFFSETTO:-0500
RDATE:20191103T020000
END:STANDARD
BEGIN:DAYLIGHT
TZNAME:EDT
DTSTART:20190310T020000
TZOFFSETFROM:-0500
TZOFFSETTO:-0400
RDATE:20200308T020000
END:DAYLIGHT
END:VTIMEZONE
BEGIN:VEVENT
UID:acf0e026-374d-4846-96b7-67e063923cce
DTSTAMP:20260421T203922Z
DESCRIPTION:
DTSTART;TZID=America/New_York:20190313T193000
DTEND;TZID=America/New_York:20190313T210000
LOCATION:11600 Nebel Street\, Rockville\, MD 20852
SUMMARY:Tools for School
END:VEVENT
END:VCALENDAR
