BEGIN:VCALENDAR
VERSION:2.0
PRODID:-//thearcmontgomerycounty.org//NONSGML kigkonsult.se iCalcreator 2.3
 0.10//
CALSCALE:GREGORIAN
METHOD:PUBLISH
UID:53d0b098-48de-4d5e-bdda-8637397d1dc8
X-WR-CALDESC:
X-WR-RELCALID:c4b15663bbadadc70946a3c254799cdf
X-WR-TIMEZONE:America/New_York
BEGIN:VTIMEZONE
TZID:America/New_York
BEGIN:STANDARD
TZNAME:EST
DTSTART:20181104T020000
TZOFFSETFROM:-0400
TZOFFSETTO:-0500
RDATE:20191103T020000
END:STANDARD
BEGIN:DAYLIGHT
TZNAME:EDT
DTSTART:20190310T020000
TZOFFSETFROM:-0500
TZOFFSETTO:-0400
RDATE:20200308T020000
END:DAYLIGHT
END:VTIMEZONE
BEGIN:VEVENT
UID:07b83592-0f18-4b44-983f-98461fd2b8af
DTSTAMP:20260421T204219Z
DESCRIPTION:
DTSTART;TZID=America/New_York:20190320T193000
DTEND;TZID=America/New_York:20190320T210000
LOCATION:11600 Nebel Street\, Rockville\, MD 20852
SUMMARY:Transition Times Meeting
END:VEVENT
END:VCALENDAR
